BEGIN:VCALENDAR
VERSION:2.0
PRODID:-//Talks.cam//talks.cam.ac.uk//
X-WR-CALNAME:Talks.cam
BEGIN:VEVENT
SUMMARY:Lliac crest palpation in the assessment of response to anti-arrhyt
 hmic medication - Dr Lakshmi Harihar
DTSTART:20160413T120000Z
DTEND:20160413T123000Z
UID:TALK65042@talks.cam.ac.uk
CONTACT:Vicky Clarke
DESCRIPTION:Specialist Lead: Prof Duncan Jodrell\n\nLead Consultant: Dr Ka
 te Fife\n\nPresenter:Dr Lakshmi Harihar\n\n"Lliac crest palpation in the a
 ssessment of response to anti-arrhythmic medication"\n\nOncology 
LOCATION:William Harvey Lecture Theatre
END:VEVENT
END:VCALENDAR
