BEGIN:VCALENDAR
VERSION:2.0
PRODID:-//Talks.cam//talks.cam.ac.uk//
X-WR-CALNAME:Talks.cam
BEGIN:VEVENT
SUMMARY:"The particulars of particulates". - Dr Nathalie Vriend\, DAMTP\, 
 Cambridge
DTSTART:20160310T130000Z
DTEND:20160310T134500Z
UID:TALK65088@talks.cam.ac.uk
CONTACT:Leona Hope-Coles
DESCRIPTION:Abstract not available
LOCATION:Ryle Seminar Room no. 930\, Rutherford Building\, Cavendish Labor
 atory
END:VEVENT
END:VCALENDAR
