BEGIN:VCALENDAR
VERSION:2.0
PRODID:-//Talks.cam//talks.cam.ac.uk//
X-WR-CALNAME:Talks.cam
BEGIN:VEVENT
SUMMARY:"Expanding the Capability Envelope of Instrumented Indentation usi
 ng Finite Element Method Modelling" - Dr James Dean\, Department of Materi
 als Science & Metallurgy\, University of Cambridge
DTSTART:20160314T100000Z
DTEND:20160314T095500Z
UID:TALK65090@talks.cam.ac.uk
CONTACT:Leona Hope-Coles
DESCRIPTION:Abstract not available
LOCATION:Ryle Seminar Room no. 930\, Rutherford Building\, Cavendish Labor
 atory
END:VEVENT
END:VCALENDAR
