BEGIN:VCALENDAR
VERSION:2.0
PRODID:-//Talks.cam//talks.cam.ac.uk//
X-WR-CALNAME:Talks.cam
BEGIN:VEVENT
SUMMARY:“Familial Gastric cancer: benefits and risks of a timely diagnos
 is” - Dr Massimilisno di Pietro & Geoff Roberts
DTSTART:20160420T120000Z
DTEND:20160420T123000Z
UID:TALK65105@talks.cam.ac.uk
CONTACT:Vicky Clarke
DESCRIPTION:Specialist Lead: Prof Arthur Kaser \n\nLead Consultant: Dr Mas
 similiano di Pietro\n\nPresenter: Dr Massimiliano di Pietro & Geoff Robert
 s\n\nTitle: “Familial Gastric cancer: benefits and risks of a timely dia
 gnosis”\n\nSubject: Gastroenterology \n
LOCATION:William Harvey Lecture Theatre
END:VEVENT
END:VCALENDAR
