BEGIN:VCALENDAR
VERSION:2.0
PRODID:-//Talks.cam//talks.cam.ac.uk//
X-WR-CALNAME:Talks.cam
BEGIN:VEVENT
SUMMARY:Welcome and Introduction - John Toland (University of Cambridge\; 
 University of Bath\; Isaac Newton Institute)\; Jane Leeks (Newton Gateway 
 to Mathematics)
DTSTART:20160309T094500Z
DTEND:20160309T100000Z
UID:TALK65146@talks.cam.ac.uk
CONTACT:INI IT
DESCRIPTION:
LOCATION:Seminar Room 1\, Newton Institute
END:VEVENT
END:VCALENDAR
