BEGIN:VCALENDAR
VERSION:2.0
PRODID:-//Talks.cam//talks.cam.ac.uk//
X-WR-CALNAME:Talks.cam
BEGIN:VEVENT
SUMMARY:Neural basis of seismic communication in courting Drosophila - Car
 oline Fabre (University of Cambridge)
DTSTART:20161007T150000Z
DTEND:20161007T163000Z
UID:TALK65338@talks.cam.ac.uk
CONTACT:Jimena Berni
DESCRIPTION:Abstract not available
LOCATION:Hodgkin Huxley Seminar Room\, Physiology Building\, Department of
  Physiology\, Development and Neuroscience.
END:VEVENT
END:VCALENDAR
