BEGIN:VCALENDAR
VERSION:2.0
PRODID:-//Talks.cam//talks.cam.ac.uk//
X-WR-CALNAME:Talks.cam
BEGIN:VEVENT
SUMMARY:Understanding Marriage in Modern Britain - Anastasia de Waal\, Dep
 uty Director at think tank Civitas\, Chairman of family charity Family Liv
 es
DTSTART:20160531T120000Z
DTEND:20160531T130000Z
UID:TALK65558@talks.cam.ac.uk
CONTACT:Elena Ilioi
DESCRIPTION:Abstract not available
LOCATION:Room 606\, Centre for Family Research
END:VEVENT
END:VCALENDAR
