BEGIN:VCALENDAR
VERSION:2.0
PRODID:-//Talks.cam//talks.cam.ac.uk//
X-WR-CALNAME:Talks.cam
BEGIN:VEVENT
SUMMARY:A Killer In Search of a Trial: Criminal Lunacy in the British Empi
 re - Catherine Evans (Joint Centre for History and Economics\, Harvard / M
 agdalene College) 
DTSTART:20160503T160000Z
DTEND:20160503T180000Z
UID:TALK65584@talks.cam.ac.uk
CONTACT:Dr AM Price
DESCRIPTION:Abstract not available
LOCATION:Graham Storey Room\, Trinity Hall\, Trinity Lane
END:VEVENT
END:VCALENDAR
