BEGIN:VCALENDAR
VERSION:2.0
PRODID:-//Talks.cam//talks.cam.ac.uk//
X-WR-CALNAME:Talks.cam
BEGIN:VEVENT
SUMMARY:High-mobility Graphene From Chemical Vapor Deposition On Reusable 
 Copper - Prof. Christoph Stampfer\, RWTH Aachen University\, Germany
DTSTART:20160506T150000Z
DTEND:20160506T160000Z
UID:TALK65803@talks.cam.ac.uk
CONTACT:Dr Stephen A. Hodge
DESCRIPTION:Abstract not available
LOCATION:Cambridge Graphene Centre\, 9 JJ Thomson Avenue\, Cambridge CB3 O
 FA\, UK
END:VEVENT
END:VCALENDAR
