BEGIN:VCALENDAR
VERSION:2.0
PRODID:-//Talks.cam//talks.cam.ac.uk//
X-WR-CALNAME:Talks.cam
BEGIN:VEVENT
SUMMARY:Multidisciplinary and Multiple Objective Topology Optimisation for
  Fluid-Structure Interactions - Dave Munk\, University of Sydney
DTSTART:20160427T150000Z
DTEND:20160427T160000Z
UID:TALK65913@talks.cam.ac.uk
CONTACT:Mari Huhtala
DESCRIPTION:Abstract not available
LOCATION:Sir Arhur Marshall Room\, Engineering Design Centre\, CUED
END:VEVENT
END:VCALENDAR
