BEGIN:VCALENDAR
VERSION:2.0
PRODID:-//Talks.cam//talks.cam.ac.uk//
X-WR-CALNAME:Talks.cam
BEGIN:VEVENT
SUMMARY:Quasars into the epoch of reionization - Richard McMahon (Institut
 e of Astronomy\, University of Cambridge)
DTSTART:20160517T130000Z
DTEND:20160517T140000Z
UID:TALK66006@talks.cam.ac.uk
CONTACT:Greg Willatt
DESCRIPTION:Abstract not available
LOCATION:Martin Ryle Seminar Room\, Kavli Institute
END:VEVENT
END:VCALENDAR
