BEGIN:VCALENDAR
VERSION:2.0
PRODID:-//Talks.cam//talks.cam.ac.uk//
X-WR-CALNAME:Talks.cam
BEGIN:VEVENT
SUMMARY:Title to be confirmed - Hui Chen\, University of Zurich
DTSTART:20161013T120000Z
DTEND:20161013T130000Z
UID:TALK66262@talks.cam.ac.uk
CONTACT:CERF/CF Admin
DESCRIPTION:TBC
LOCATION:Room W4.03 Judge Business School
END:VEVENT
END:VCALENDAR
