BEGIN:VCALENDAR
VERSION:2.0
PRODID:-//Talks.cam//talks.cam.ac.uk//
X-WR-CALNAME:Talks.cam
BEGIN:VEVENT
SUMMARY:Computational Radiotherapy Symposium\, 2016: personalised radiothe
 rapy\, or how computers can cure cancer - Speakers as detailed in Symposiu
 m Programme
DTSTART:20160609T113000Z
DTEND:20160609T163000Z
UID:TALK66314@talks.cam.ac.uk
CONTACT:Mala Jayasundera
DESCRIPTION:*PLEASE NOTE THAT THIS IS A TWO DAY EVENT\, ON BOTH 9th AND 10
 th JUNE\, see Programme*\n\n*Programme*: \nhttp://www.comprt.org/sites/def
 ault/files/flyer_2016_final.pdf\n\n*Registration (essential*): https://www
 .eventbrite.co.uk/e/cambridge-computational-radiotherapy-symposium-tickets
 -19440661542?utm_term=eventurl_text\n\nJoin us for a free *2 day multidisc
 iplinary symposium* exploring the use of computational techniques in preci
 sion radiotherapy treatment. \n\nWe will draw together expert opinions fro
 m industry\, \nacademia and the clinic to define the challenges faced by t
 he radiation oncology community in the future.\n\n*Accredited for RCR CPD*
 \n
LOCATION:CRUK CI Lecture Theatre
END:VEVENT
END:VCALENDAR
