BEGIN:VCALENDAR
VERSION:2.0
PRODID:-//Talks.cam//talks.cam.ac.uk//
X-WR-CALNAME:Talks.cam
BEGIN:VEVENT
SUMMARY:Cambridge Science Festival: ‘The Big and the Small’  12–25 M
 arch 2007 - Speaker to be confirmed
DTSTART:20070312T103000Z
DTEND:20070312T150000Z
UID:TALK6649@talks.cam.ac.uk
CONTACT:5145
DESCRIPTION:As part of National Science Week\, the Cambridge Science Festi
 val aims to encourage young people to study science\, technology\, enginee
 ring and maths subjects further at school and University\; and to engage w
 ith the public of all ages on topics of scientific interest and concern. T
 he Cambridge Science Festival is the UK’s largest free science festival 
 and offers a great opportunity for families to come and see scientific dep
 artments at the University opening their doors and running educational and
  fun events.
LOCATION:Various University departments
END:VEVENT
END:VCALENDAR
