BEGIN:VCALENDAR
VERSION:2.0
PRODID:-//Talks.cam//talks.cam.ac.uk//
X-WR-CALNAME:Talks.cam
BEGIN:VEVENT
SUMMARY:Handedness: The Other Uniquely Human Trait? - Dr William McGrew De
 partment of Biological Anthropology\, University of Cambridge
DTSTART:20070307T170000Z
DTEND:20070307T180000Z
UID:TALK6664@talks.cam.ac.uk
CONTACT:Clare Cambridge
DESCRIPTION:Abstract not available
LOCATION:LCHES Seminar Room\, Henry Wellcome Buildingm Fitzwilliam Street
END:VEVENT
END:VCALENDAR
