BEGIN:VCALENDAR
VERSION:2.0
PRODID:-//Talks.cam//talks.cam.ac.uk//
X-WR-CALNAME:Talks.cam
BEGIN:VEVENT
SUMMARY:Science Makers: sensor networks - Cecilia Mascolo (Computer Labora
 tory) Helene Steiner (Microsoft Research)\, Helen Pritchard (citizensense)
DTSTART:20160702T110000Z
DTEND:20160702T160000Z
UID:TALK66653@talks.cam.ac.uk
CONTACT:Jennifer Molloy
DESCRIPTION:!http://photos2.meetupstatic.com/photos/event/4/8/8/b/600_4501
 38571.jpeg!\n\nScience Makers is a monthly event to discuss and build low-
 cost\, DIY and open hardware for science and education.\n\nThis month we'r
 e looking at sensor networks. Hear from researchers building and using sen
 sor networks for science and get hands-on in the afternoon working on a pr
 oject.\n\n12:00 Arrival and coffee \n\n12:30 - Presentations and demos\n\n
 • Cecilia Mascolo on wireless sensor networks and Emotionsense\n\n• He
 lene Steiner on plants as sensor networks\n\n• Helen Pritchard on citize
 nsense\, a practice-based research project investigating digital sensors a
 nd environmental practice.\n\n13:30 - Pizza (£4 suggested donation)\n\n14
 :30 - Making!\n\nWe'll be building a PM2.5 air quality sensor based on Ard
 uino with citizensense.\n\nYou are also welcome to work on your own projec
 ts.\n\n
LOCATION:Makespace Classroom\, 16 Mill Lane\, Cambridge\, CB2 1RX 
END:VEVENT
END:VCALENDAR
