BEGIN:VCALENDAR
VERSION:2.0
PRODID:-//Talks.cam//talks.cam.ac.uk//
X-WR-CALNAME:Talks.cam
BEGIN:VEVENT
SUMMARY:Cabaret: Science of Sex\, Drugs and Rock n Roll - Dr Harry Witchel
 \, Dr Graeme Jones and Dr Mark Lewney
DTSTART:20070318T194500Z
DTEND:20070318T204500Z
UID:TALK6707@talks.cam.ac.uk
CONTACT:Emma Wenborn
DESCRIPTION:Dr Harry Witchel\, Dr Graeme Jones and Dr Mark Lewney drag you
  down the slippery slope of the rock star lifestyle to hilarious discoveri
 es about your three favourite vices. Not for those with delicate sensitivi
 ties! Tickets £5/£4\, phone 01223 300085 to book. 
LOCATION:ADC Theatre
END:VEVENT
END:VCALENDAR
