BEGIN:VCALENDAR
VERSION:2.0
PRODID:-//Talks.cam//talks.cam.ac.uk//
X-WR-CALNAME:Talks.cam
BEGIN:VEVENT
SUMMARY:The Scale of Science Panel Discussion - Panel of Speakers
DTSTART:20070322T193000Z
DTEND:20070322T203000Z
UID:TALK6710@talks.cam.ac.uk
CONTACT:Emma Wenborn
DESCRIPTION:Learn about what it is like doing research from microscopic sc
 ale up to global and universal questions and ask questions of our panel: L
 ord Martin Rees\, Professor Bill Sutherland\, Dr Andrea Brand\, and chair 
 Tim Radford.
LOCATION:Law Faculty\, 10 West Road\, Cambridge CB3 9DZ
END:VEVENT
END:VCALENDAR
