BEGIN:VCALENDAR
VERSION:2.0
PRODID:-//Talks.cam//talks.cam.ac.uk//
X-WR-CALNAME:Talks.cam
BEGIN:VEVENT
SUMMARY:Onsager Principle - A Principle Useful for Solving Industrial Prob
 lems - Masao Doi (Toyota Physical and Chemical Research Institute)
DTSTART:20160909T094500Z
DTEND:20160909T104500Z
UID:TALK67295@talks.cam.ac.uk
CONTACT:INI IT
DESCRIPTION:
LOCATION:Seminar Room 1\, Newton Institute
END:VEVENT
END:VCALENDAR
