BEGIN:VCALENDAR
VERSION:2.0
PRODID:-//Talks.cam//talks.cam.ac.uk//
X-WR-CALNAME:Talks.cam
BEGIN:VEVENT
SUMMARY:Understanding Unconscious Bias: Session 1 - Aubrey Maasdorp - Chal
 lenge Consultancy Ltd 
DTSTART:20161018T123000Z
DTEND:20161018T140000Z
UID:TALK67724@talks.cam.ac.uk
CONTACT:Equality & Diversity
DESCRIPTION:Two separate sessions with Aubrey Maasdorp\, Consultant at Cha
 llenge Consultancy\, exploring the impact of Unconscious Bias on individua
 l and group attitudes and behaviours.\n\n\n*Session 1*\n\n1.30pm - 3.00pm 
 \n\nBook Via: http://uncb1.eventbrite.co.uk \n\n*OR*\n\n*Session 2*\n\n 3.
 30pm - 5.00pm \n\nBook via: https://uncb2.eventbrite.co.uk\n
LOCATION:MR3\,  Centre for Mathematical Sciences\, Wilberforce Road\, Camb
 ridge
END:VEVENT
END:VCALENDAR
