BEGIN:VCALENDAR
VERSION:2.0
PRODID:-//Talks.cam//talks.cam.ac.uk//
X-WR-CALNAME:Talks.cam
BEGIN:VEVENT
SUMMARY:Challenging Conversations - ..
DTSTART:20161109T120000Z
DTEND:20161109T130000Z
UID:TALK67727@talks.cam.ac.uk
CONTACT:Equality & Diversity
DESCRIPTION:The Women's Staff Network (WSN) hosts informal training and ne
 tworking sessions at three University sites each term.\n\nMeet the WSN tea
 m and learn how to handle conversations with difficult people in a confide
 nt\, assertive and positive way.\n\nEveryone is welcome. \n\n*To book a pl
 ace\, please visit\, https://09novconversations1.eventbrite.co.uk*\n
LOCATION:Committee Room 213\, Cavendish Laboratory
END:VEVENT
END:VCALENDAR
