BEGIN:VCALENDAR
VERSION:2.0
PRODID:-//Talks.cam//talks.cam.ac.uk//
X-WR-CALNAME:Talks.cam
BEGIN:VEVENT
SUMMARY:Title to be confirmed - Prof Michael J Hartmann
DTSTART:20161110T141500Z
DTEND:20161110T151500Z
UID:TALK67777@talks.cam.ac.uk
CONTACT:Edgar Engel
DESCRIPTION:Abstract not available
LOCATION:TCM Seminar Room\, Cavendish Laboratory\, Department of Physics
END:VEVENT
END:VCALENDAR
