BEGIN:VCALENDAR
VERSION:2.0
PRODID:-//Talks.cam//talks.cam.ac.uk//
X-WR-CALNAME:Talks.cam
BEGIN:VEVENT
SUMMARY:Flexible middleware for road traffic sensor data - Dr David Ingram
 \, Computer Laboratory
DTSTART:20070320T144500Z
DTEND:20070320T151500Z
UID:TALK6805@talks.cam.ac.uk
CONTACT:Liam Garvey
DESCRIPTION:This presentation will discuss SBUS\, a new event-based system
  for processing sensor data\, built from decentralised components. It supp
 orts streams of data and is reconfigurable whilst it is running. Our case 
 study is based on road traffic monitoring by fusing outputs from a wide ra
 nge of sensors.\n\n
LOCATION:Kaetsu Centre\, New Hall
END:VEVENT
END:VCALENDAR
