BEGIN:VCALENDAR
VERSION:2.0
PRODID:-//Talks.cam//talks.cam.ac.uk//
X-WR-CALNAME:Talks.cam
BEGIN:VEVENT
SUMMARY:Imaging the dynamic nature of emotional memory - Renee Visser\, MR
 C Cognition and Brain Sciences Unit
DTSTART:20161116T123000Z
DTEND:20161116T133000Z
UID:TALK68060@talks.cam.ac.uk
CONTACT:Deborah McSkimming
DESCRIPTION:Abstract not available
LOCATION:Lecture Theatre\, MRC Cognition and Brain Sciences Unit\, Chaucer
  Road
END:VEVENT
END:VCALENDAR
