BEGIN:VCALENDAR
VERSION:2.0
PRODID:-//Talks.cam//talks.cam.ac.uk//
X-WR-CALNAME:Talks.cam
BEGIN:VEVENT
SUMMARY:Panel on sexual harassment in UK higher education institutions - 1
 752 Group
DTSTART:20161129T170000Z
DTEND:20161129T184500Z
UID:TALK68247@talks.cam.ac.uk
CONTACT:Nina Rismal
DESCRIPTION:Abstract not available
LOCATION:Room 1\, Mill Lane Lecture Rooms\, 8 Mill Lane\, Cambridge
END:VEVENT
END:VCALENDAR
