BEGIN:VCALENDAR
VERSION:2.0
PRODID:-//Talks.cam//talks.cam.ac.uk//
X-WR-CALNAME:Talks.cam
BEGIN:VEVENT
SUMMARY:Single Molecule DNA/Protein Sensing with designed DNA carriers and
  solid-state Nanopores - Jinglin Kong
DTSTART:20161014T150000Z
DTEND:20161014T160000Z
UID:TALK68317@talks.cam.ac.uk
CONTACT:47243
DESCRIPTION:Abstract not available
LOCATION:Small Lecture Theatre\, Bragg Building\, Cavendish Laboratory (Ph
 ysics Department)
END:VEVENT
END:VCALENDAR
