BEGIN:VCALENDAR
VERSION:2.0
PRODID:-//Talks.cam//talks.cam.ac.uk//
X-WR-CALNAME:Talks.cam
BEGIN:VEVENT
SUMMARY:Moduli spaces of holomorphic differentials - Rahul Pandharipande
DTSTART:20161202T160000Z
DTEND:20161202T170000Z
UID:TALK68563@talks.cam.ac.uk
CONTACT:Mark Gross
DESCRIPTION:I will discuss a new moduli space of holomorphic/meromorphic\n
 differentials on Riemann surfaces (joint work with G. Farkas) and propose 
 connections between the fundamental class to Pixton's formulas and Witten'
 s r-spin class (joint\nwork with  F. Janda\, A. Pixton\, and D. Zvonkine).
LOCATION:CMS MR13
END:VEVENT
END:VCALENDAR
