BEGIN:VCALENDAR
VERSION:2.0
PRODID:-//Talks.cam//talks.cam.ac.uk//
X-WR-CALNAME:Talks.cam
BEGIN:VEVENT
SUMMARY:Cambridge 3Rs (Replication\, Recombination and Repair) Seminar  - 
 Martin Taylor (Yeeles lab\, LMB) and Rimma Belotserkovskaya (Jackson lab\,
  Gurdon Institute)
DTSTART:20161108T180000Z
DTEND:20161108T193000Z
UID:TALK68648@talks.cam.ac.uk
CONTACT:Emma Gleave
DESCRIPTION:3Rs- Replication\, Recombination and Repair of DNA\n\nPizza an
 d beer will follow the talks\n\nThis seminar series is sponsored by MedImm
 une
LOCATION:Max Perutz Lecture Theatre\, MRC LMB
END:VEVENT
END:VCALENDAR
