BEGIN:VCALENDAR
VERSION:2.0
PRODID:-//Talks.cam//talks.cam.ac.uk//
X-WR-CALNAME:Talks.cam
BEGIN:VEVENT
SUMMARY:Pekka Hämäläinen: A Place in the World - Pekka Hämäläinen\, 
 University of Oxford
DTSTART:20161017T160000Z
DTEND:20161017T180000Z
UID:TALK68692@talks.cam.ac.uk
CONTACT:Jonathan Goodwin
DESCRIPTION:Abstract not available
LOCATION:Knox Shaw Room\, Sidney Sussex College
END:VEVENT
END:VCALENDAR
