BEGIN:VCALENDAR
VERSION:2.0
PRODID:-//Talks.cam//talks.cam.ac.uk//
X-WR-CALNAME:Talks.cam
BEGIN:VEVENT
SUMMARY:Film Screening: "On The Bride's Side" + Discussion with Director -
  Gabriele del Grande
DTSTART:20161109T170000Z
DTEND:20161109T193000Z
UID:TALK69020@talks.cam.ac.uk
CONTACT:Melissa Gatter
DESCRIPTION:Join Cambridge Migration Society and the Department of Italian
  for the first-ever screening of On The Bride's Side in Cambridge! This wi
 ll be followed by a Skype discussion with Director Gabriele del Grande.\n\
 nMill Lane Lecture Theatres Room 7\n5-6:30pm: Film screening\n6:30-7:30pm:
  Skype discussion with Director Gabriele del Grande\n\n"On the Bride's Sid
 e" is a documentary that follows the journey of Palestinians and Syrians f
 rom Milan to Stockholm via a fake wedding party. The documentary has won m
 ultiple awards\, including the Human Rights Nights Award at the 71 Venice 
 Film Festival\, the Golden Prize at the Aljazeera Film Festival 2015\, and
  it was shortlisted as Best Documentary at the David di Donatello Awards 2
 015\, Grand Prix as Best Documentary at the Oran International Film Festiv
 al 2015\, Special Prize at the Arab Film Festival of Malmo\, and Best Docu
 mentary Award at the Arab Film Festival of San Francisco.\n\nWatch the tra
 iler here: https://vimeo.com/album/3005720/video/104016696\n\nOriginal Tit
 le: Io Sto Con La Sposa (Eng. title: On the Bride's Side)\nLength: 98'\nCo
 untry of the film: Italy/Palestine\nDirectors: Antonio Augugliaro\, Gabrie
 le Del Grande\, Khaled Soliman Al Nassiry\n\nThis event is supported by th
 e Department of Italian.
LOCATION:Mill Lane Lecture Theatres\, Room 7
END:VEVENT
END:VCALENDAR
