BEGIN:VCALENDAR
VERSION:2.0
PRODID:-//Talks.cam//talks.cam.ac.uk//
X-WR-CALNAME:Talks.cam
BEGIN:VEVENT
SUMMARY:Bacteriophage translocation across epithelial cells provides a mec
 hanism for phage to penetrate the body  - Dr Jeremy J Barr\, Monash Univer
 sity\, Victoria\, Australia
DTSTART:20170118T080000Z
DTEND:20170118T083000Z
UID:TALK69681@talks.cam.ac.uk
CONTACT:Ilana Spilka
DESCRIPTION:Abstract not available
LOCATION:Online
END:VEVENT
END:VCALENDAR
