BEGIN:VCALENDAR
VERSION:2.0
PRODID:-//Talks.cam//talks.cam.ac.uk//
X-WR-CALNAME:Talks.cam
BEGIN:VEVENT
SUMMARY:Stem cell derived extracellular matrix as a cell culture substrate
  elicits very different and desirable cell behaviours versus standard plas
 tic substrates - Dr. Travis Block\, StemBioSys\, Inc\, San Antonio\, Unite
 d States
DTSTART:20170207T103000Z
DTEND:20170207T104500Z
UID:TALK69742@talks.cam.ac.uk
CONTACT:Ilana Spilka
DESCRIPTION:Abstract not available
LOCATION:Online
END:VEVENT
END:VCALENDAR
