BEGIN:VCALENDAR
VERSION:2.0
PRODID:-//Talks.cam//talks.cam.ac.uk//
X-WR-CALNAME:Talks.cam
BEGIN:VEVENT
SUMMARY:What is Imposter Syndrome? - Dr Hugh Kearns 
DTSTART:20170209T130000Z
DTEND:20170209T140000Z
UID:TALK69776@talks.cam.ac.uk
CONTACT:Equality & Diversity
DESCRIPTION:*How can it be that so many clever\, competent and capable peo
 ple can feel that they are just one step away from being exposed as a comp
 lete fraud?*\n \n*International expert Dr Hugh Kearns explains what the la
 test psychological research tells us about ‘Imposter Syndrome’ and str
 ategies for dealing with it.* \n\n*To book your place\, please visit: http
 s://impostersyndrome2017.eventbrite.co.uk* \n
LOCATION:Room 1\, Mill Lane Lecture Rooms\, 8 Mill Lane\, Cambridge
END:VEVENT
END:VCALENDAR
