BEGIN:VCALENDAR
VERSION:2.0
PRODID:-//Talks.cam//talks.cam.ac.uk//
X-WR-CALNAME:Talks.cam
BEGIN:VEVENT
SUMMARY:2017 George Macaulay Trevelyan Lectures  - Professor Ruth Harris (
 Oxford)
DTSTART:20170203T170000Z
DTEND:20170203T180000Z
UID:TALK69817@talks.cam.ac.uk
CONTACT:37639
DESCRIPTION:Series title: The Global Idealist Moment: Encounters between E
 ast and West\, 1880 – 1940\n\n# Feb 3rd Buddhist ‘Science of Mind’ a
 nd Dharmapala’s Torment\n# Feb 6th The Animal World of Mahatma Gandhi an
 d Albert Schweitzer.\n
LOCATION:Law Faculty\, Room LG19
END:VEVENT
END:VCALENDAR
