BEGIN:VCALENDAR
VERSION:2.0
PRODID:-//Talks.cam//talks.cam.ac.uk//
X-WR-CALNAME:Talks.cam
BEGIN:VEVENT
SUMMARY:A Positive Psychological Approach to weight loss. - Dr. Sharon Rob
 ertson\, University of Adelaide\, Adelaide\, Australia
DTSTART:20170418T073000Z
DTEND:20170418T080000Z
UID:TALK69833@talks.cam.ac.uk
CONTACT:Ilana Spilka
DESCRIPTION:This talk is based on the results of a small pilot study\, in 
 which specifically targeted Positive Psychological Interventions (PPI's)  
 promoted short-term improvement in the positive mental health\, happiness 
 and weight loss outcomes of class 2 and class 3 obese women. These results
  are discussed in the context of the current obesity problem\, and promote
  the idea that PPI's are a potentially useful adjunct to current treatment
  strategies for obesity.
LOCATION:Online
END:VEVENT
END:VCALENDAR
