BEGIN:VCALENDAR
VERSION:2.0
PRODID:-//Talks.cam//talks.cam.ac.uk//
X-WR-CALNAME:Talks.cam
BEGIN:VEVENT
SUMMARY:The South Arabian Origin of Ethiosemitic - Professor Rainer Voigt\
 , Freie Universität\, Berlin
DTSTART:20070504T160000Z
DTEND:20070504T170000Z
UID:TALK6990@talks.cam.ac.uk
CONTACT:Geoffrey Khan
DESCRIPTION:This lecture will give an overview of the Semitic languages of
  Ethiopia and argue that they were introduced into Africa from South Arabi
 a.
LOCATION:Runcie Room\, Faculty of Divinity\, West Road (Sidgwick Site)
END:VEVENT
END:VCALENDAR
