BEGIN:VCALENDAR
VERSION:2.0
PRODID:-//Talks.cam//talks.cam.ac.uk//
X-WR-CALNAME:Talks.cam
BEGIN:VEVENT
SUMMARY:Topics in Heegaard Floer homology I - Adam Levine (Princeton Unive
 rsity)
DTSTART:20170116T100000Z
DTEND:20170116T110000Z
UID:TALK69915@talks.cam.ac.uk
CONTACT:INI IT
DESCRIPTION:We will introduce the basics of Heegaard Floer homology\, with
  a view toward results on the classification of L-spaces.
LOCATION:Seminar Room 1\, Newton Institute
END:VEVENT
END:VCALENDAR
