BEGIN:VCALENDAR
VERSION:2.0
PRODID:-//Talks.cam//talks.cam.ac.uk//
X-WR-CALNAME:Talks.cam
BEGIN:VEVENT
SUMMARY:'Mucosal immunology of asthma' - Bart Lambrecht\, Ghent University
DTSTART:20170310T130000Z
DTEND:20170310T140000Z
UID:TALK70103@talks.cam.ac.uk
CONTACT:Tammy Dougan
DESCRIPTION:Abstract not available
LOCATION:MPLT\, MRC-LMB\, Francis Crick Avenue\, Cambridge Biomedical Camp
 us\, CB2 0QH
END:VEVENT
END:VCALENDAR
