BEGIN:VCALENDAR
VERSION:2.0
PRODID:-//Talks.cam//talks.cam.ac.uk//
X-WR-CALNAME:Talks.cam
BEGIN:VEVENT
SUMMARY:Molecular mechanisms of MADS-domain transcription factor function-
  an integrated approach  - Dr Chloe Zubieta (Biosciences and Biotechnology
  Institute of Grenoble)
DTSTART:20170125T160000Z
DTEND:20170125T170000Z
UID:TALK70190@talks.cam.ac.uk
CONTACT:Beth Hacche
DESCRIPTION:Abstract not available
LOCATION:Auditorium of The Sainsbury Laboratory (Bateman Street)
END:VEVENT
END:VCALENDAR
