BEGIN:VCALENDAR
VERSION:2.0
PRODID:-//Talks.cam//talks.cam.ac.uk//
X-WR-CALNAME:Talks.cam
BEGIN:VEVENT
SUMMARY:Institutions\, Growth\, and Global Justice - Chris Armstrong (Sout
 hampton)
DTSTART:20170217T130000Z
DTEND:20170217T143000Z
UID:TALK70202@talks.cam.ac.uk
CONTACT:Dr Duncan Bell
DESCRIPTION:Abstract not available
LOCATION:Prioress's Room\, Jesus College
END:VEVENT
END:VCALENDAR
