BEGIN:VCALENDAR
VERSION:2.0
PRODID:-//Talks.cam//talks.cam.ac.uk//
X-WR-CALNAME:Talks.cam
BEGIN:VEVENT
SUMMARY:Jill Lepore: The Rise and Fall of the Fact - Jill Lepore\, Harvard
  University and the New Yorker
DTSTART:20170120T160000Z
DTEND:20170120T180000Z
UID:TALK70374@talks.cam.ac.uk
CONTACT:Jonathan Goodwin
DESCRIPTION:Abstract not available
LOCATION:The Graham Storey Room\, Trinity Hall
END:VEVENT
END:VCALENDAR
