BEGIN:VCALENDAR
VERSION:2.0
PRODID:-//Talks.cam//talks.cam.ac.uk//
X-WR-CALNAME:Talks.cam
BEGIN:VEVENT
SUMMARY:Mixed race children of black GIs and British women born in WWII - 
 Professor Lucy Bland\, Anglia Ruskin University\, Cambridge
DTSTART:20170216T130000Z
DTEND:20170216T140000Z
UID:TALK70376@talks.cam.ac.uk
CONTACT:Dr. P MR Howell
DESCRIPTION:Lucy is a historian of gender and sexuality\, author of\, amon
 gst other things:  Banishing the Beast:  English Feminism and Sexual Mor
 ality 1885-1914 (Penguin\, 1995) and Modern Women on Trial: Sexual Transg
 ression in the Age of the Flapper (Manchester University Press\, 2013).
LOCATION:Room 101\, Hardy Building\, Department of Geography
END:VEVENT
END:VCALENDAR
