BEGIN:VCALENDAR
VERSION:2.0
PRODID:-//Talks.cam//talks.cam.ac.uk//
X-WR-CALNAME:Talks.cam
BEGIN:VEVENT
SUMMARY:The Binet-Legendre metric in Finsler geometry and some   applicati
 ons - Marc Troyanov (Lausanne)
DTSTART:20170314T160000Z
DTEND:20170314T170000Z
UID:TALK70716@talks.cam.ac.uk
CONTACT:Professor Maciej Dunajski
DESCRIPTION: The Binet-Legendre metric is a canonical  Riemannian metric 
 associated to\na given metric  on a given manifold\; it has a well contro
 lled behavior under  isometries and  \nconformal  transformations  tha
 t   makes  it  an\nefficient  tool to solve problems in Finsler geomet
 ry by reducing them to their Riemannian\ncounterpart. \nIn this talk I wi
 ll survey some recent applications of the Binet-Legendre metrics to solve 
 some\nspecific Finslerian problems
LOCATION:MR11
END:VEVENT
END:VCALENDAR
