BEGIN:VCALENDAR
VERSION:2.0
PRODID:-//Talks.cam//talks.cam.ac.uk//
X-WR-CALNAME:Talks.cam
BEGIN:VEVENT
SUMMARY:Deep engagement and the JBS approach to funding research: CANCELLE
 D - Professor Stelios Kavadias\, Judge Business School
DTSTART:20170220T130000Z
DTEND:20170220T140000Z
UID:TALK70717@talks.cam.ac.uk
CONTACT:Yi-Jun Lin
DESCRIPTION:The School of Technology Research Funding Masterclasses run at
  least once a term. This term\, Professor Stelios Kavadias gives a Judge B
 usiness School perspective on funding research.\n\n\nA sandwich lunch will
  be provided\, but please register on Eventbrite at: https://www.eventbrit
 e.co.uk/e/deep-engagement-and-the-jbs-approach-to-funding-research-tickets
 -31443181402\, by 10 February 2017.
LOCATION:Department of Engineering - LR4
END:VEVENT
END:VCALENDAR
