BEGIN:VCALENDAR
VERSION:2.0
PRODID:-//Talks.cam//talks.cam.ac.uk//
X-WR-CALNAME:Talks.cam
BEGIN:VEVENT
SUMMARY:Shaping Public Health Policy on Infectious Diseases through Eviden
 ce Synthesis  - Dr Daniela De Angelis\, Programme Leader\, MRC Biostatisti
 cs Unit
DTSTART:20170223T173000Z
DTEND:20170223T190000Z
UID:TALK70884@talks.cam.ac.uk
CONTACT:Alison Quenault
DESCRIPTION:Abstract not available
LOCATION:Harrods Room\, Emmanuel College\, St Andrew’s Street\, Cambridg
 e CB2 3AP
END:VEVENT
END:VCALENDAR
