BEGIN:VCALENDAR
VERSION:2.0
PRODID:-//Talks.cam//talks.cam.ac.uk//
X-WR-CALNAME:Talks.cam
BEGIN:VEVENT
SUMMARY:What happened when I spent a month in Antarctica with 75 internati
 onal women scientists determined to change the world - Deborah Pardo
DTSTART:20170208T190000Z
DTEND:20170208T200000Z
UID:TALK70919@talks.cam.ac.uk
CONTACT:Anna Vilalta
DESCRIPTION:After a year and a half of preparation and fundraising I just 
 came back from a month on ship sailing in Antarctica to follow a leadershi
 p\, visibility and strategy training designed for 76 selected women scient
 ists from 16 different countries. The Homeward Bound project has three mai
 n aims: 1) Create a powerful network of 1000 women in science over 10 year
 s \; 2) Propel women scientists in leadership positions in environmental p
 olicy\, research and decision-making \; 3) Prove that our closer link with
  the environment\, our skills and sensibility can provide a new dynamic mu
 ch needed for our Planet's future. Come and hear about what happened and d
 iscuss with me the bigger implications of collective intelligence for the 
 future of our planet as well as the unexpected combination of women\, scie
 nce\, leadership and environment.
LOCATION:Pantom Arms Pub\, 43 Panton St\, Cambridge CB2 1HL
END:VEVENT
END:VCALENDAR
