BEGIN:VCALENDAR
VERSION:2.0
PRODID:-//Talks.cam//talks.cam.ac.uk//
X-WR-CALNAME:Talks.cam
BEGIN:VEVENT
SUMMARY:The Politics of Personalised Insurance Pricing in the Age of Weara
 ble Devices: Big Data\, Transparency and Solidarity - Liz McFall (Open Uni
 versity) and Dan Wilson (Cambridge)
DTSTART:20170208T120000Z
DTEND:20170208T140000Z
UID:TALK70984@talks.cam.ac.uk
CONTACT:Dr Alfred Moore
DESCRIPTION:For more\, see http://www.crassh.cam.ac.uk/programmes/the-poli
 tics-and-paradoxes-of-transparency
LOCATION: Room SG2\, Alison Richard Building\, 7 West Road\, Cambridge\, C
 B3 9DT
END:VEVENT
END:VCALENDAR
