BEGIN:VCALENDAR
VERSION:2.0
PRODID:-//Talks.cam//talks.cam.ac.uk//
X-WR-CALNAME:Talks.cam
BEGIN:VEVENT
SUMMARY:Masterclass with Arjun Appadurai (NYU/Berlin) - Arjun Appadurai (N
 YU/Berlin)
DTSTART:20170317T000000Z
DTEND:20170317T000000Z
UID:TALK71179@talks.cam.ac.uk
CONTACT:Dr Shruti Kapila
DESCRIPTION:Abstract not available
LOCATION:Corpus Christi College
END:VEVENT
END:VCALENDAR
