BEGIN:VCALENDAR
VERSION:2.0
PRODID:-//Talks.cam//talks.cam.ac.uk//
X-WR-CALNAME:Talks.cam
BEGIN:VEVENT
SUMMARY:More Diversity = Better Science: International Women’s Day 2017 
 - Speaker to be confirmed
DTSTART:20170308T170000Z
DTEND:20170308T183000Z
UID:TALK71212@talks.cam.ac.uk
CONTACT:Leona Hope-Coles
DESCRIPTION:Wear Purple this Women’s Day to show your support for Divers
 ity in Science! We are hosting two great speakers to encourage a discussio
 n on the experiences of minorities in STEM and positive actions we can all
  take to promote diversity.\n\nProf Meena Upadhyaya (Cancer and Genetics\,
  Cardiff University)\nWill speak about her career and her experience as a 
 champion of women in science.\n\nDr Thekla Morgenroth (Psychology\, Univer
 sity of Exeter)\nWill lead a discussion on affirmative action.\n\nAll welc
 ome\nDrinks and nibbles will be served following the talks.\n
LOCATION:Pippard Theatre\, Cavendish Laboratory\, Department of Physics
END:VEVENT
END:VCALENDAR
