BEGIN:VCALENDAR
VERSION:2.0
PRODID:-//Talks.cam//talks.cam.ac.uk//
X-WR-CALNAME:Talks.cam
BEGIN:VEVENT
SUMMARY:Architecture and construction of the Slave craton derived from joi
 nt interpretation of multiple seismic techniques and geochemistry - David 
 Snyder (Geological Survey of Canada)
DTSTART:20070425T153000Z
DTEND:20070425T163000Z
UID:TALK7132@talks.cam.ac.uk
CONTACT:4745
DESCRIPTION:Abstract not available
LOCATION:Marine/Wolfson Building lecture hall
END:VEVENT
END:VCALENDAR
